BEGIN:VCALENDAR
METHOD:PUBLISH
PRODID:-//4430@www.region-coburg.tv//NONSGML iCalcreator 2.4.3//
VERSION:2.0
BEGIN:VEVENT
UID:4430-20181106190000-20181106000000@www.region-coburg.tv
DTSTAMP:20260421T175857Z
CONTACT:Eintritt frei!
CREATED:20181030T121400Z
DESCRIPTION:Zeitreise ins Jahr 1918â€ž1918: Der Traum von der Freien Republ
 ikâ€œ heiÃŸt eine Veranstaltung in der Coburger StadtbÃ¼cherei am Dienstag
 \, den 06. November. Skizziert wird die Entwicklung hin zur â€žMÃ¼nchner R
 Ã¤terepublikâ€œ. Dichter wie Ernst Toller\, Erich MÃ¼hsam oder Oskar Maria
  Graf waren daran beteiligt. Deren Texte und zeitgenÃ¶ssische Kabarettsong
 s illustrieren die damalige Stimmung. Es singt und spricht Schauspieler St
 ephan Mertl\, Dagmar WeiÃŸ sitzt am Akkordeon\, Texte und die Moderation Ã
 ¼bernehmen Edmund Frey und Brigitte Maisch. Der Eintritt dazu ist frei. - 
 Tickets: Eintritt frei!
DTEND:20181106T000000
DTSTART:20181106T190000
LAST-MODIFIED:20181030T121400Z
LOCATION:Coburg\, StadtbÃ¼cherei
SUMMARY:Der Traum von der Freien Republik
X-IMAGE:http://www.region-coburg.tv/images/medium/1918-vh-90dcd683.jpg
END:VEVENT
END:VCALENDAR
