BEGIN:VCALENDAR
METHOD:PUBLISH
PRODID:-//4429@www.region-coburg.tv//NONSGML iCalcreator 2.4.3//
VERSION:2.0
BEGIN:VEVENT
UID:4429-20181103203000-20181103000000@www.region-coburg.tv
DTSTAMP:20260421T175334Z
CONTACT:NP Geschäftsstellen
CREATED:20181030T121200Z
DESCRIPTION:Blues\, Funk\, Jazz oder Rock\, Country\, Pop oder Soul – bei
 m Coburger Livemusik-Highlight\, der “Neuen Presse Kneipennacht” macht
  die Qual der Wahl Vergnügen. Am Samstag\, den 3. November bringt die zw
 lfte Auflage des Kult-Festivals die City mit 15 Bands in 13 Locations wie
 der zum Klingen und Feiern. 'Stammgäste' wie die 'Silhouettes'\, 'Six In 
 The Basement'\, 'Restless Cats' oder 'Greyhound' sind natürlich wieder mi
 t dabei. - Tickets: NP Geschäftsstellen
DTEND:20181103T000000
DTSTART:20181103T203000
LAST-MODIFIED:20181030T121200Z
LOCATION:Coburg\, Innenstadt
SUMMARY:Neue Presse Kneipennacht
X-IMAGE:http://www.region-coburg.tv/images/medium/kneipennacht-vh-b28b0c42.
 jpg
END:VEVENT
END:VCALENDAR
