BEGIN:VCALENDAR
METHOD:PUBLISH
PRODID:-//4416@www.region-coburg.tv//NONSGML iCalcreator 2.4.3//
VERSION:2.0
BEGIN:VEVENT
UID:4416-20181025190000-20181025000000@www.region-coburg.tv
DTSTAMP:20260424T194917Z
CONTACT:09568 / 8973-0
CREATED:20181015T181400Z
DESCRIPTION:AG wird Musical-StageMit der „Reise ins Grünbergland“\, de
 m „Wunschpunsch“ und „Drei Engel für Pamina“ feierten die Schüle
 r des Neustadter Arnold-Gymnasiums große Erfolge. Nach vier Jahren Pause 
 ist es nun wieder soweit. „Hals- und Beinbruch\, toi\, toi\, toi!“ von
  Hans-Jürgen Fuchs wird Ende Oktober auf der AG-Musical-Stage zu sehen se
 in.Video - Tickets: 09568 / 8973-0
DTEND:20181025T000000
DTSTART:20181025T190000
LAST-MODIFIED:20181015T181400Z
LOCATION:Neustadt bei Coburg\, Zweifachhalle Arnold-Gymnasium
SUMMARY:'Hals- & Beinbruch\, toi\, toi\, toi!'
X-IMAGE:http://www.region-coburg.tv/images/medium/musical-vh-6c084f65.jpg
END:VEVENT
END:VCALENDAR
