BEGIN:VCALENDAR
METHOD:PUBLISH
PRODID:-//4397@www.region-coburg.tv//NONSGML iCalcreator 2.4.3//
VERSION:2.0
BEGIN:VEVENT
UID:4397-20181127201500-20181127000000@www.region-coburg.tv
DTSTAMP:20260421T193240Z
CONTACT:09561 / 239051
CREATED:20180909T182200Z
DESCRIPTION:Mit einem Auto\, das aussieht wie ein fahrender Fotoapparat\, m
 achen sich die fast 90jährige Filmemacherin Agnès Varda und der 1983 geb
 orene Fotograf und Streetart-Künstler JR auf die Reise durch das ländlic
 he Frankreich und fotografieren die Menschen vor Ort. Das Auto ist tatsäc
 hlich ein mobiler Fotoautomat und schon nach fünf Sekunden kommen die üb
 erlebensgroßen Porträts aus der Karosse\, die die Künstler mit viel Kre
 ativität an Häuser\,  Wassertürme oder Zugwaggons anbringen.Die poetis
 che Reisedoku erzählt von kleinen Anekdoten und nimmt sich Zeit für fein
 sinnige Beobachtungen. Es geht um Land und Leute\, Fotografie und Kunst un
 d nicht zuletzt um die persönliche Dynamik zwischen den Reisepartnern. De
 r Film erhielt eine Oscar-Nominierung als Bester Dokumentarfilm.VHS-Film d
 er Woche | Frankreich 2018 - Tickets: 09561 / 239051
DTEND:20181127T000000
DTSTART:20181127T201500
LAST-MODIFIED:20180909T182200Z
LOCATION:Coburg\, Kino Utopolis
SUMMARY:Augenblicke: Gesichter einer Reise
X-IMAGE:http://www.region-coburg.tv/images/medium/vhs-film-1276db0f.jpg
END:VEVENT
END:VCALENDAR
