BEGIN:VCALENDAR
METHOD:PUBLISH
PRODID:-//4396@www.region-coburg.tv//NONSGML iCalcreator 2.4.3//
VERSION:2.0
BEGIN:VEVENT
UID:4396-20181121201500-20181121000000@www.region-coburg.tv
DTSTAMP:20260421T192911Z
CONTACT:09561 / 239051
CREATED:20180909T182000Z
DESCRIPTION:Auch wenn Synchronschwimmen für Männer nicht als olympische D
 isziplin zugelassen ist\, so erfreut sie uns zumindest im Kino. Eric Scott
  hat die 40 längst überschritten. Er langweilt sich in seinem Job als Bu
 chhalter\, seine Frau und sein pubertierender Sohn halten ihn für einen L
 ooser. Jeden Abend zieht er im Schwimmbad monoton seine Bahnen. Dort entde
 ckt er etwas Merkwürdiges: Eine Gruppe von Männern\, die\, wie er\, die 
 besten Jahre überschritten haben\, übt Synchronschwimmen und hat jede Me
 nge Spaß dabei! Und Spaß ist genau das\, was in Erics Leben gerade völl
 ig fehlt.Spaß ist auch dem Kinopublikum garantiert\, wenn es der schräge
 n Truppe übergewichtiger Durchschnitts-Typen zusieht\, wie sie versucht\,
  der Midlife-Crisis erfolgreich und synchron davonzuschwimmen. Jede Menge 
 Situationskomik und britischer Humor vom Feinsten.VHS-Film der Woche | Gro
 ßbritannien 2018 - Tickets: 09561 / 239051
DTEND:20181121T000000
DTSTART:20181121T201500
LAST-MODIFIED:20180909T182000Z
LOCATION:Coburg\, Kino Utopolis
SUMMARY:Swimming with Men
X-IMAGE:http://www.region-coburg.tv/images/medium/vhs-film-1276db0f.jpg
END:VEVENT
END:VCALENDAR
