BEGIN:VCALENDAR
METHOD:PUBLISH
PRODID:-//4395@www.region-coburg.tv//NONSGML iCalcreator 2.4.3//
VERSION:2.0
BEGIN:VEVENT
UID:4395-20181113201500-20181113000000@www.region-coburg.tv
DTSTAMP:20260421T193626Z
CONTACT:09561 / 239051
CREATED:20180909T181700Z
DESCRIPTION:Um die Trauer um Ihren verstorbenen Mann hinter sich zu lassen\
 , nimmt sich die New Yorker Malerin Catherine Weldon 1889 ein neues Projek
 t vor: ein Porträt des legendären Sioux-Stammeshäuptlings Sitting Bull.
  Unter dem indianischen Namen „Frau geht voraus“ gewinnt sie das Vertr
 auen und die Freundschaft des großen Indianers. Bei der Army hingegen mac
 ht sich die moderne und selbstbewusste Frau mit Ihrem Vorhaben sowie ihrem
  Engagement für die amerikanischen Ureinwohner viele Feinde.Der Film\, de
 r auf einer wahren Geschichte beruht\, beschreibt die komplexen Machtspiel
 e der Armeeoberen und vermittelt interessante Einsichten in die Kultur der
  Ureinwohner und ihrem Leid.VHS-Film der Woche | USA 2018 - Tickets: 09561
  / 239051
DTEND:20181113T000000
DTSTART:20181113T201500
LAST-MODIFIED:20180909T181700Z
LOCATION:Coburg\, Kino Utopolis
SUMMARY:Die Frau\, die vorausgeht
X-IMAGE:http://www.region-coburg.tv/images/medium/vhs-film-1276db0f.jpg
END:VEVENT
END:VCALENDAR
