BEGIN:VCALENDAR
METHOD:PUBLISH
PRODID:-//4394@www.region-coburg.tv//NONSGML iCalcreator 2.4.3//
VERSION:2.0
BEGIN:VEVENT
UID:4394-20181106201500-20181106000000@www.region-coburg.tv
DTSTAMP:20260421T180102Z
CONTACT:09561 / 239051
CREATED:20180909T181400Z
DESCRIPTION:Oscar Wildes ErzÃ¤hlung â€žThe Happy Princeâ€œ Ã¼ber einen glÃ¼
 cklichen Prinzen\, der niemals Leid gekannt hat\, steht im krassen Gegensa
 tz zu den letzten Jahren im Leben des Autors. Von 1895-97 saÃŸ der legendÃ
 ¤re Schriftsteller wegen seiner HomosexualitÃ¤t im Zuchthaus. Nach seiner 
 Entlassung war er in seiner englischen Heimat geÃ¤chtet und verbrachte sei
 n Leben im Exil\, zunÃ¤chst in Frankreich und spÃ¤ter Italien\, bis er 190
 0 verstirbt. Der Film erzÃ¤hlt von den letzten Jahren eines reichen Lebens
 \, vom zunehmenden Verfall des einstigen stilvollenÂ  Dandys\, seiner Such
 t nach Kokain\, Absinth und jungen MÃ¤nnern\, die ihn immer wieder in Geld
 nÃ¶te bringen.Als Regisseur und Schauspieler setzt Rupert Everett ein Denk
 mal fÃ¼r den Menschen Oscar Wilde und seine ewige Suche nach Liebe. Ãœbrig
 ens: Der Film wurde zu einem groÃŸen Teil in Oberfranken gedreht\, und zwa
 r in den Orten Thurnau\, Kulmbach\, Mitwitz und SchmÃ¶lz.VHS-Film der Woch
 e | Deutschland\, Belgien\, Italien 2018 - Tickets: 09561 / 239051
DTEND:20181106T000000
DTSTART:20181106T201500
LAST-MODIFIED:20180909T181400Z
LOCATION:Coburg\, Kino Utopolis
SUMMARY:The Happy Prince
X-IMAGE:http://www.region-coburg.tv/images/medium/vhs-film-1276db0f.jpg
END:VEVENT
END:VCALENDAR
