BEGIN:VCALENDAR
METHOD:PUBLISH
PRODID:-//4393@www.region-coburg.tv//NONSGML iCalcreator 2.4.3//
VERSION:2.0
BEGIN:VEVENT
UID:4393-20181031201500-20181031000000@www.region-coburg.tv
DTSTAMP:20260421T175724Z
CONTACT:09561 / 239051
CREATED:20180909T181100Z
DESCRIPTION:Es ist ein Roadmovie der anderen Art. Denn während sich in den
  meisten Fällen junge Menschen auf einen Selbstfindungstrip begeben\, mac
 ht sich in diesem Film ein altes Ehepaar auf den Weg zu einer letzten Reis
 e. Ella und John sind seit vielen Jahren glücklich verheiratet\, doch das
  Alter macht sich bemerkbar. Ihr Leben wird bestimmt durch Arztbesuche und
  die Bedürfnisse und Forderungen ihrer erwachsenen Kinder. Doch Bevormund
 ung und Pflegeheim sind keine Perspektive. Und so begeben sich die beiden 
 in einem Oldtimer-Wohnmobil auf einen Road-Trip entlang der  amerikanisch
 en Ostküste\, um das Haus von Ernest Hemingway in Key West zu besuchen.Di
 e beiden Hauptdarsteller und Schauspiellegenden Helen Mirren und Donald Su
 therland meistern diese Suche nach dem Leben in Freiheit und Selbstbestimm
 ung mit Bravour.VHS-Film der Woche | Italien\, Frankreich 2018 - Tickets:
  09561 / 239051
DTEND:20181031T000000
DTSTART:20181031T201500
LAST-MODIFIED:20180909T181100Z
LOCATION:Coburg\, Kino Utopolis
SUMMARY:Das Leuchten der Erinnerung
X-IMAGE:http://www.region-coburg.tv/images/medium/vhs-film-1276db0f.jpg
END:VEVENT
END:VCALENDAR
