BEGIN:VCALENDAR
METHOD:PUBLISH
PRODID:-//4392@www.region-coburg.tv//NONSGML iCalcreator 2.4.3//
VERSION:2.0
BEGIN:VEVENT
UID:4392-20181023201500-20181023000000@www.region-coburg.tv
DTSTAMP:20260421T175421Z
CONTACT:09561 / 239051
CREATED:20180909T180700Z
DESCRIPTION:In Simons Welt ist alles perfekt. Bis auf die Tatsache\, dass e
 r eben schwul ist. Der 17jährige konnte sich bis jetzt nicht zu einem Com
 ing-Out durchringen. Erst als ihm ein Schulkamerad online und anonym von s
 einer Homosexualität berichtet nimmt er über das Internet Kontakt zu dem
  nur als Blue bekannten Mitschüler auf. Doch Simons E-Mails werden durch 
 einen unglücklichen Zufall von seinem Mitschüler Martin entdeckt\, der i
 hn damit erpresst und ihn in Schwierigkeiten bringt. Aus Simons Perspektiv
 e durchlebt der Zuschauer auf der Leinwand das komplette Spektrum an Emoti
 onen.Der Film hinterfragt auf kreative Weise\, dass die Heterosexualität 
 der Norm entspricht und alle anderen Orientierungen als Abweichungen zu ge
 lten haben. In einer Szene zum Beispiel outen sich Jugendliche vor ihren E
 ltern als hetero(!)sexuell. Eine ebenso komische wie aufrichtige Geschicht
 e über Erwachsenwerden und Selbstfindung.VHS-Film der Woche | USA 2018 - 
 Tickets: 09561 / 239051
DTEND:20181023T000000
DTSTART:20181023T201500
LAST-MODIFIED:20180909T180700Z
LOCATION:Coburg\, Kino Utopolis
SUMMARY:Love\, Simon
X-IMAGE:http://www.region-coburg.tv/images/medium/vhs-film-1276db0f.jpg
END:VEVENT
END:VCALENDAR
