BEGIN:VCALENDAR
METHOD:PUBLISH
PRODID:-//4391@www.region-coburg.tv//NONSGML iCalcreator 2.4.3//
VERSION:2.0
BEGIN:VEVENT
UID:4391-20181017201500-20181017000000@www.region-coburg.tv
DTSTAMP:20260421T175934Z
CONTACT:09561 / 239051
CREATED:20180909T180400Z
DESCRIPTION:Eine junge Witwe erÃ¶ffnet Ende der 1950er Jahre in einem idyll
 ischen Ort an der OstkÃ¼ste Englands eine Buchhandlung. Ihr Plan geht zunÃ
 ¤chst sogar auf\, auch wenn die Arbeiter und Fischer des Ortes nur schwer 
 fÃ¼r das Lesen zu begeistern sind. Doch die Oberschicht hat ihre eigenen V
 orstellungen\, was kulturell bedeutsam zu sein hat. Und so spinnt die einf
 lussreiche Violet Gamart\, die aus dem Buchladen lieber ein Kulturzentrum 
 gemacht hÃ¤tte\, eine trickreiche Intrige\, um Florence Green zu vertreibe
 n.Es geht um nichts weniger als die Liebe zum Buch und die Sehnsucht nach 
 Fantasie\, aber auch um unterdrÃ¼ckte GefÃ¼hle\, Klassenunterschiede und d
 ie Angst vor dem Unbekannten in der englischen Provinz in dieser Zeit. Die
  hervorragend gespielten Auseinandersetzungen zwischen den Figuren in mess
 erscharfen Dialogen demonstrieren eindrucksvoll die Macht der Worte.VHS-Fi
 lm der Woche | Spanien\, GroÃŸbritannien\,Deutschland 2018 - Tickets: 0956
 1 / 239051
DTEND:20181017T000000
DTSTART:20181017T201500
LAST-MODIFIED:20180909T180400Z
LOCATION:Coburg\, Kino Utopolis
SUMMARY:Der Buchladen der Florence Green
X-IMAGE:http://www.region-coburg.tv/images/medium/vhs-film-1276db0f.jpg
END:VEVENT
END:VCALENDAR
