BEGIN:VCALENDAR
METHOD:PUBLISH
PRODID:-//4390@www.region-coburg.tv//NONSGML iCalcreator 2.4.3//
VERSION:2.0
BEGIN:VEVENT
UID:4390-20181009201500-20181009000000@www.region-coburg.tv
DTSTAMP:20260421T161055Z
CONTACT:09561 / 239051
CREATED:20180909T180100Z
DESCRIPTION:In der futuristischen japanischen Metropole Megasaki herrscht d
 er mächtige Kobayashi-Clan\, der eine besondere Vorliebe für Katzen hat.
  Hunde leiden unter Diskriminierung und als auch noch eine Hunde-Grippe au
 sbricht\, werden alle Hunde ohne ihre Herrchen auf eine vor der Stadt lieg
 ende Müllinsel abgeschoben. Aber das nimmt der 12-jährige Atari nicht hi
 n. Er kapert ein Flugzeug\, um seinen Hund von Trash Island zurückzuholen
 .Es ist Wes Andersons zweiter Animationsfilm\, gedreht in der aufwändigen
  Stop-Motion-Technik\, was die handgemachten Figuren besonders lebensecht 
 wirken lässt. Ohne Kompromisse inszeniert er seine typischen zentrierten 
 Bilder in klaren Formen\, voller Details\, Ideen und Anspielungen. Mit sku
 rrilem und staubtrockenen Humor karikiert er aktuelle Themen und erzählt 
 von Vorurteilen und Diskriminierung\, Exil und Vertreibung und vom Verhäl
 tnis zwischen Menschen und Tieren sowie den Menschen untereinander.VHS-Fil
 m der Woche | Deutschland\, USA 2018 - Tickets: 09561 / 239051
DTEND:20181009T000000
DTSTART:20181009T201500
LAST-MODIFIED:20180909T180100Z
LOCATION:Coburg\, Kino Utopolis
SUMMARY:Isle of Dogs
X-IMAGE:http://www.region-coburg.tv/images/medium/vhs-film-1276db0f.jpg
END:VEVENT
END:VCALENDAR
