BEGIN:VCALENDAR
METHOD:PUBLISH
PRODID:-//4389@www.region-coburg.tv//NONSGML iCalcreator 2.4.3//
VERSION:2.0
BEGIN:VEVENT
UID:4389-20181002201500-20181002000000@www.region-coburg.tv
DTSTAMP:20260421T160509Z
CONTACT:09561 / 239051
CREATED:20180909T175800Z
DESCRIPTION:Als der FlÃ¼chtling Georg in Paris keinen Unterschlupf findet\,
  will er vor den anrÃ¼ckenden deutschen Truppen nach Marseille fliehen. Do
 ch zuvor soll er dem Schriftsteller Weidel einen Brief Ã¼berbringen. Er mu
 ss aber feststellen\, dass der sich das Leben genommen hat. Kurzentschloss
 en nimmt Georg dessen Papiere\, und ein Transitvisum nach Mexiko an sich u
 nd geht nach Marseille. Dort wird er im mexikanischen Konsulat\, fast ohne
  eigenes Zutun\, in die Rolle Weidels gedrÃ¤ngt. Mit seinem Visum und eine
 r Schiffspassagenach Mexiko scheint er gerettet. Jedoch lÃ¤uft ihm immer w
 ieder die schÃ¶ne und mysteriÃ¶se Marie Ã¼ber den Weg ... auf der Suche na
 ch Ihrem Mann.Christian Petzold verfilmt sehr werkgetreu Anna Seghers Roma
 n â€žTransitâ€œ von 1942\, lÃ¤sst ihn aber in einer Welt spielen\, die wie
  die Gegenwart aussieht und spannt so genial einen Bezug zur aktuellen FlÃ
 ¼chtlingsthematik.VHS-Film der Woche | Deutschland\, Frankreich 2018 - Tic
 kets: 09561 / 239051
DTEND:20181002T000000
DTSTART:20181002T201500
LAST-MODIFIED:20180909T175800Z
LOCATION:Coburg\, Kino Utopolis
SUMMARY:Transit
X-IMAGE:http://www.region-coburg.tv/images/medium/vhs-film-1276db0f.jpg
END:VEVENT
END:VCALENDAR
