BEGIN:VCALENDAR
METHOD:PUBLISH
PRODID:-//4388@www.region-coburg.tv//NONSGML iCalcreator 2.4.3//
VERSION:2.0
BEGIN:VEVENT
UID:4388-20180925201500-20180925000000@www.region-coburg.tv
DTSTAMP:20260421T161131Z
CONTACT:09561 / 239051
CREATED:20180909T175500Z
DESCRIPTION:PublikumswunschIn einem Interview spricht der legendäre Operns
 tar selbst von zwei Personen\, die sie in sich trägt – Maria und Callas
 . Der Titel „Maria by Callas“ ist durchaus wörtlich zu verstehen\, de
 nn Regisseur Tom Volf wählt für seinen Dokumentarfilm einen ganz besonde
 ren Ansatz: Er erzählt die Lebensgeschichte der griechisch-amerikanischen
  Sopranistin ausschließlich durch die Worte von Callas selbst. Aus Briefe
 n\, Fotos\, Opern- und Konzertmitschnitten entsteht so weniger eine Huldig
 ung des Weltstars Callas\, als vielmehr ein Porträt der Frau dahinter.Der
  Regisseur macht dabei keinen Hehl aus seiner Verehrung. Entstanden ist ei
 n Film\, der fast so elegant ist\, wie die Callas selbst. Ein Kinovergnüg
 en nicht nur für alle Opern- und Klassikfans.VHS-Film der Woche | Frankre
 ich 2018 - Tickets: 09561 / 239051
DTEND:20180925T000000
DTSTART:20180925T201500
LAST-MODIFIED:20180909T175500Z
LOCATION:Coburg\, Kino Utopolis
SUMMARY:Maria by Callas
X-IMAGE:http://www.region-coburg.tv/images/medium/vhs-film-1276db0f.jpg
END:VEVENT
END:VCALENDAR
