BEGIN:VCALENDAR
METHOD:PUBLISH
PRODID:-//4387@www.region-coburg.tv//NONSGML iCalcreator 2.4.3//
VERSION:2.0
BEGIN:VEVENT
UID:4387-20180918201500-20180918000000@www.region-coburg.tv
DTSTAMP:20260421T161031Z
CONTACT:09561 / 239051
CREATED:20180909T175000Z
DESCRIPTION:Zur „Nacht der Nachhaltigkeit“ am 22. September„Ich glaub
 e die Tiere sind einfach schlauer als die Wissenschaftler“\, schmunzelt 
 ein Bauer aus Iowa\, dessen Kühe das Genfutter meiden\, wenn sie die Wahl
  haben. Und: „Eigentlich sollte man sich den besten Anzug anziehen\, wen
 n man auf den Acker geht\,“ betont ein unbeugsamer bayerischer Bio-Landw
 irt\, „um den Boden als unsere Lebensgrundlage zu preisen“. Mit solche
 n und vielen anderen positiven Beispielen beklagt der Film nicht einfach n
 ur den massiven Einsatz von Chemie in der Landwirtschaft und die unabsehba
 ren Folgen für Menschen\, Tiere und Pflanzen\, sondern er demonstriert au
 ch glaubwürdig die inspirierende Kraft ökologischer Landwirtschaft als P
 erspektive für unser Ökosystem.VHS-Film der Woche | Deutschland 2017 - T
 ickets: 09561 / 239051
DTEND:20180918T000000
DTSTART:20180918T201500
LAST-MODIFIED:20180909T175000Z
LOCATION:Coburg\, Kino Utopolis
SUMMARY:Code of Survival
X-IMAGE:http://www.region-coburg.tv/images/medium/vhs-film-1276db0f.jpg
END:VEVENT
END:VCALENDAR
