BEGIN:VCALENDAR
METHOD:PUBLISH
PRODID:-//4386@www.region-coburg.tv//NONSGML iCalcreator 2.4.3//
VERSION:2.0
BEGIN:VEVENT
UID:4386-20180911201500-20180911000000@www.region-coburg.tv
DTSTAMP:20260421T161248Z
CONTACT:09561 / 239051
CREATED:20180909T174800Z
DESCRIPTION:Der schüchterne Christian beginnt eine neue Stelle als Stapler
 fahrer im Großmarkt. Rasch gewinnt er Freunde\, die ihm zeigen\, wie die 
 Dinge in dem kleinen Universum funktionieren. Als er sich in Marion von de
 n Süßwaren verliebt\, drückt ihm seine neue Kollegen-Familie ganz fest 
 die Daumen. Das Kinopublikum taucht ein in den Mikrokosmos Großmarkt und 
 fiebert mit gemeinsam mit Christians Kollegen bei dieser Love Story mit. D
 as poetische Märchen avancierte durch liebenswert gezeichnete Figuren\, g
 roßartige Darsteller und umwerfende Dialoge zum Liebling auf der Berlinal
 e und wird seitdem als einer der besten deutschen Filme des Jahres gehande
 lt.VHS-Film der Woche | Deutschland 2018 - Tickets: 09561 / 239051
DTEND:20180911T000000
DTSTART:20180911T201500
LAST-MODIFIED:20180909T174800Z
LOCATION:Coburg\, Kino Utopolis
SUMMARY:In den Gängen
X-IMAGE:http://www.region-coburg.tv/images/medium/vhs-film-1276db0f.jpg
END:VEVENT
END:VCALENDAR
