BEGIN:VCALENDAR
METHOD:PUBLISH
PRODID:-//4377@www.region-coburg.tv//NONSGML iCalcreator 2.4.3//
VERSION:2.0
BEGIN:VEVENT
UID:4377-20181007110000-20181007000000@www.region-coburg.tv
DTSTAMP:20260424T181559Z
CONTACT:Eintritt frei!
CREATED:20180825T165000Z
DESCRIPTION:Nur Pferden gibt man den GnadenschussSchauspiel nach dem gleich
 namigen Roman von Horace McCoyLandestheater Coburg\, Matinée zur Premiere
  am 20. Oktober 2018 - Tickets: Eintritt frei!
DTEND:20181007T000000
DTSTART:20181007T110000
LAST-MODIFIED:20180825T165000Z
LOCATION:Landestheater Coburg\, Reithalle
SUMMARY:Matinée
X-IMAGE:http://www.region-coburg.tv/images/medium/ltc-2018-eab7be43.jpg
END:VEVENT
END:VCALENDAR
