BEGIN:VCALENDAR
METHOD:PUBLISH
PRODID:-//4362@www.region-coburg.tv//NONSGML iCalcreator 2.4.3//
VERSION:2.0
BEGIN:VEVENT
UID:4362-20180807200000-20180807000000@www.region-coburg.tv
DTSTAMP:20260421T141925Z
CONTACT:09561 / 1304
CREATED:20180805T171400Z
DESCRIPTION:'Die Kamuelsfeder'Diesmal sind es die fränkische Heimat und da
 s schöne Italien\, in dem gemordet und gefahndet wird. Der beliebteste Kr
 imiautor Nordbayerns und ehemaliger TBC-Kabarettist Helmut Vorndran\, stel
 lt am Dienstag\, den 07. August in der „Alten Schäferei“ in Ahorn sei
 n neuestes Buch vor. Mit skurrilem Witz und ebenso viel Spannung gibt „D
 ie Kamuelsfeder“ unheimliche Rätsel auf. - Tickets: 09561 / 1304
DTEND:20180807T000000
DTSTART:20180807T200000
LAST-MODIFIED:20180805T171400Z
LOCATION:Ahorn\, Alte Schäferei
SUMMARY:Lesung mit Helmut Vorndran
X-IMAGE:http://www.region-coburg.tv/images/medium/vorndran-vh-2a47f321.jpg
END:VEVENT
END:VCALENDAR
