BEGIN:VCALENDAR
METHOD:PUBLISH
PRODID:-//4352@www.region-coburg.tv//NONSGML iCalcreator 2.4.3//
VERSION:2.0
BEGIN:VEVENT
UID:4352-20180725180000-20180725000000@www.region-coburg.tv
DTSTAMP:20260421T142815Z
CONTACT:09564 / 809360
CREATED:20180719T173100Z
DESCRIPTION:Live vom Grünen HügelDass Bad Rodach\, die kleine Kurstadt\, 
 auch große Oper kann\, beweist sie jedes Jahr mit der Live-Übertragung v
 om Grünen Hügel der Bayreuther Festspiele. Auf dem Programm steht diesma
 l Richard Wagners Oper „Lohengrin“ in einer Inszenierung des amerikani
 schen Regisseurs Yuval Sharon und der musikalischen Leitung von Christian 
 Thielemann. Die Übertragung findet am Mittwoch\, den 25. Juli in der Bad 
 Rodacher Gerold-Strobel-Halle statt. - Tickets: 09564 / 809360
DTEND:20180725T000000
DTSTART:20180725T180000
LAST-MODIFIED:20180719T173100Z
LOCATION:Bad Rodach\, Gerold-Strobel-Halle
SUMMARY:Live aus Bayreuth: 'Lohengrin'
X-IMAGE:http://www.region-coburg.tv/images/medium/bayreuth-vh-2f1bd159.jpg
END:VEVENT
END:VCALENDAR
