BEGIN:VCALENDAR
METHOD:PUBLISH
PRODID:-//4331@www.region-coburg.tv//NONSGML iCalcreator 2.4.3//
VERSION:2.0
BEGIN:VEVENT
UID:4331-20180922193000-20180922000000@www.region-coburg.tv
DTSTAMP:20260420T045850Z
CONTACT:09561 / 7318500
CREATED:20180712T182800Z
DESCRIPTION:Heimspiel des HSC 2000 Coburg in der 2. Handball-BundesligaKomp
 letter Spielplan - Tickets: 09561 / 7318500
DTEND:20180922T000000
DTSTART:20180922T193000
LAST-MODIFIED:20180712T182800Z
LOCATION:HUK-COBURG arena
SUMMARY:HSC 2000 Coburg – TSV Bayer Dormagen
X-IMAGE:http://www.region-coburg.tv/images/medium/hsc-logo-d09cc377.jpg
END:VEVENT
END:VCALENDAR
