BEGIN:VCALENDAR
METHOD:PUBLISH
PRODID:-//4320@www.region-coburg.tv//NONSGML iCalcreator 2.4.3//
VERSION:2.0
BEGIN:VEVENT
UID:4320-20180610160000-20180610000000@www.region-coburg.tv
DTSTAMP:20260424T094821Z
CONTACT:09564 / 4489
CREATED:20180609T100400Z
DESCRIPTION:SommerkonzertFür Freunde der gepflegten Akkordeonmusik bietet 
 die Heldritter Waldbühne am Sonntag\, den 10. Juni ein Sommerkonzert. Sch
 lager\, Rock und Pop\, Evergreens wie auch Tanz- und Volksmusik stehen auf
  dem Programm der „Harmonikas“\, dem Drei-Generationen-Akkordeonorches
 ter unter der Leitung von Birgit Bischoff. - Tickets: 09564 / 4489
DTEND:20180610T000000
DTSTART:20180610T160000
LAST-MODIFIED:20180609T100400Z
LOCATION:Waldbühne Heldritt
SUMMARY:Die Harmonikas
X-IMAGE:http://www.region-coburg.tv/images/medium/harmonikas-81bfb02d.jpg
END:VEVENT
END:VCALENDAR
