BEGIN:VCALENDAR
METHOD:PUBLISH
PRODID:-//4318@www.region-coburg.tv//NONSGML iCalcreator 2.4.3//
VERSION:2.0
BEGIN:VEVENT
UID:4318-20180608200000-20180608000000@www.region-coburg.tv
DTSTAMP:20260424T095549Z
CONTACT:09564 / 4489
CREATED:20180530T115900Z
DESCRIPTION:'Mit Alles und Schaf'„Bembers“ - das schwarze Schaf der deu
 tschen Comedy-Szene feiert ein kleines Jubiläum. Hinter dem Titel „Mit 
 Alles und Schaf!” verbirgt sich das Beste aus fünf Jahren Hardcore Come
 dy. Bizarre Perspektiven gemischt mit derbem Humor machen aus scheinbar al
 ltäglichen Situationen Bembers Echtleben-Komik. Live und echt zu erleben 
 am Freitag\, den 08. Juni auf der Heldritter Waldbühne. - Tickets: 09564 
 / 4489
DTEND:20180608T000000
DTSTART:20180608T200000
LAST-MODIFIED:20180530T115900Z
LOCATION:Waldbühne Heldritt
SUMMARY:Best of Bembers
X-IMAGE:http://www.region-coburg.tv/images/medium/bembers-vh-ef210627.jpg
END:VEVENT
END:VCALENDAR
