BEGIN:VCALENDAR
METHOD:PUBLISH
PRODID:-//4317@www.region-coburg.tv//NONSGML iCalcreator 2.4.3//
VERSION:2.0
BEGIN:VEVENT
UID:4317-20180605190000-20180605000000@www.region-coburg.tv
DTSTAMP:20260421T105818Z
CONTACT: 09561 / 891420
CREATED:20180530T115600Z
DESCRIPTION:Musikalische Lesung„Nadelstich & Schlangensprache“ ist der 
 Titel des neuen Gedicht-Bandes des Autors und Musikers Christian Rosenau m
 it Zeichnungen der Malerin Ulrike Theusner. Eine musikalische Lyrik-Lesung
 \, bei der Christian Rosenau die Sängerin Luise Hecht mit der Gitarre beg
 leitet\, findet am Dienstag\, den 05. Juni in der Stadtbücherei Coburg st
 att. - Tickets:  09561 / 891420
DTEND:20180605T000000
DTSTART:20180605T190000
LAST-MODIFIED:20180530T115600Z
LOCATION:Coburg\, Stadtbücherei
SUMMARY:Nadelstich & Schlangensprache
X-IMAGE:http://www.region-coburg.tv/images/medium/rosenau-vh-484bdcf6.jpg
END:VEVENT
END:VCALENDAR
