BEGIN:VCALENDAR
METHOD:PUBLISH
PRODID:-//4315@www.region-coburg.tv//NONSGML iCalcreator 2.4.3//
VERSION:2.0
BEGIN:VEVENT
UID:4315-20180828201500-20180828000000@www.region-coburg.tv
DTSTAMP:20260421T160728Z
CONTACT:09561 / 239051
CREATED:20180523T210000Z
DESCRIPTION:Mit Songs wie â€žOur Darknessâ€œ oder â€žSleeper in Metropolisâ
 €œ und einer avantgardistischen elektronischen Musik zwischen New Wave\, T
 echno und Punk machte Anne Clark in den 80er Jahren auf sich aufmerksam. I
 hre sehr poetischen\, aber auch melancholischen und schwermÃ¼tigen Texte t
 rÃ¤gt sie rhythmisch gesprochen und weniger singend vor. Trotz des Erfolge
 s lÃ¤sst sie sich nicht vom Mainstream vereinnahmen. Nach Konflikten mit i
 hrer einstigen Plattenfirma\, zieht sich Clark in ein musikalisches Exil i
 n Norwegen zurÃ¼ck und erfindet sich dort neu. Filmemacher Claus Withopf z
 eichnet in seiner Dokumentation ein PortrÃ¤t von Clark und findet zugleich
  einen Weg\, ihre Musik zu visualisieren. Eine auÃŸergewÃ¶hnliche KÃ¼nstle
 rin und ein auÃŸergewÃ¶hnlicher\, musikalisch hochinteressanter Film.VHS-F
 ilm der Woche | Deutschland 2018 - Tickets: 09561 / 239051
DTEND:20180828T000000
DTSTART:20180828T201500
LAST-MODIFIED:20180523T210000Z
LOCATION:Coburg\, Kino Utopolis
SUMMARY:Anne Clark â€“ Iâ€˜ll Walk Out Into Tomorrow
X-IMAGE:http://www.region-coburg.tv/images/medium/vhs-film-1276db0f.jpg
END:VEVENT
END:VCALENDAR
