BEGIN:VCALENDAR
METHOD:PUBLISH
PRODID:-//4314@www.region-coburg.tv//NONSGML iCalcreator 2.4.3//
VERSION:2.0
BEGIN:VEVENT
UID:4314-20180822201500-20180822000000@www.region-coburg.tv
DTSTAMP:20260421T142110Z
CONTACT:09561 / 239051
CREATED:20180523T205700Z
DESCRIPTION:Ridley Scotts Entführungs-Thriller basiert auf einem wahren Fa
 ll\, der 1973 in die Kriminalgeschichte einging: Der 16-jährige Paul Gett
 y\, Enkel des milliardenschweren Öl-Magnaten und Kunstsammlers John Paul 
 Getty\, wurde eines Abends auf offener Straße in Rom in einen Minibus gez
 errt und nach Kalabrien verschleppt. Doch der alte Patriarch dachte nicht 
 daran\, die geforderten 17 Millionen Dollar Lösegeld an die Entführer mi
 t engen Kontakten zur kalabrischen Mafia zu bezahlen. Der Film porträtier
 t den Multimilliardär\, skrupellosen Geschäftsmann und besessenen Kunsts
 ammler. Er zeigt aber auch das besondere emotionale Band zwischen dem entf
 ührten Paul und seiner Mutter\, die energisch und wütend versucht\, ihre
 n eigensinnigen Schwiegervater von dessen rigoroser Haltung abzubringen\, 
 während die Entführer allmählich die Geduld verlieren.VHS-Film der Woch
 e | USA 2018 - Tickets: 09561 / 239051
DTEND:20180822T000000
DTSTART:20180822T201500
LAST-MODIFIED:20180523T205700Z
LOCATION:Coburg\, Kino Utopolis
SUMMARY:Alles Geld der Welt
X-IMAGE:http://www.region-coburg.tv/images/medium/vhs-film-1276db0f.jpg
END:VEVENT
END:VCALENDAR
