BEGIN:VCALENDAR
METHOD:PUBLISH
PRODID:-//4313@www.region-coburg.tv//NONSGML iCalcreator 2.4.3//
VERSION:2.0
BEGIN:VEVENT
UID:4313-20180814201500-20180814000000@www.region-coburg.tv
DTSTAMP:20260421T142803Z
CONTACT:09561 / 239051
CREATED:20180523T205400Z
DESCRIPTION:PublikumswunschMaria Theresia Paradis (1759-1824) war eine Zeit
 genossin von Haydn und Mozart und selbst ein Wunderkind. Trotz Blindheit w
 ird sie in jungen Jahren zu einer gefragten Klaviervirtuosin. Der Film kon
 zentriert sich auf einen mehrmonatigen Aufenthalt in der Kurklinik\, wo ei
 n umstrittener Arzt versucht\, ihre Blindheit\, die in der feinen Gesellsc
 haft auch als Makel gilt\, zu heilen. Es gelingt tatsächlich: sie sieht e
 rste Bilder\, muss aber erschreckt feststellen\, dass gleichermaßen ihre 
 musikalische Begabung schwindet. Sie muss sich entscheiden. Der Film funkt
 ioniert auf mehreren Ebenen. Als Historiendrama mit perfektem Set- und Kos
 tümdesign\, als Geschichte des Erwachsenwerdens einer jungen Frau und nic
 ht zuletzt geht es in „Licht“ – wie auch im Kino – ums Sehen und u
 ms Hören\, um Bilder und Töne\, und wie sich beides gegenseitig bedingt.
 VHS-Film der Woche | Deutschland\, Österreich 2018 - Tickets: 09561 / 239
 051
DTEND:20180814T000000
DTSTART:20180814T201500
LAST-MODIFIED:20180523T205400Z
LOCATION:Coburg\, Kino Utopolis
SUMMARY:Licht
X-IMAGE:http://www.region-coburg.tv/images/medium/vhs-film-1276db0f.jpg
END:VEVENT
END:VCALENDAR
