BEGIN:VCALENDAR
METHOD:PUBLISH
PRODID:-//4312@www.region-coburg.tv//NONSGML iCalcreator 2.4.3//
VERSION:2.0
BEGIN:VEVENT
UID:4312-20180808201500-20180808000000@www.region-coburg.tv
DTSTAMP:20260421T142803Z
CONTACT:09561 / 239051
CREATED:20180523T205100Z
DESCRIPTION:Nach den Yoga-Ãœbungen geht es zum FrÃ¼hstÃ¼ck. Dann Kippen kau
 fen und Quizsendungen im Fernsehen gucken. Abends in der Stammbar eine Blo
 ody Mary mit sonderbaren Typen trinken. Das ist die tÃ¤gliche Routine des 
 alten Lucky\, die unverÃ¤nderbar scheint. Bis Lucky eines Tages ohnmÃ¤chti
 g wird. Und auch wenn ihm sein Arzt erklÃ¤rt\, dass das bei einem Menschen
  seines Alters vorkommen kann\, verÃ¤ndert sich etwas in ihm. Als ob er er
 st jetzt erkennt\, dass sein Leben in absehbarer Zeit enden wird\, Ã¶ffnet
  er sich zÃ¶gerlich seinen Mitmenschen und bleibt doch er selbst: ein wort
 karger Gelegenheitsphilosoph der nie mehr sagt als das\, was gesagt werden
  muss. Was hat er dem Tod entgegenzusetzen? Ein LÃ¤cheln ist die Antwort. 
 Damit verabschiedet sich Lucky sowie sein 2017 verstorbener Darsteller Har
 ry Dean Stanton mit einem LÃ¤cheln aus dem Film und in seinem letzten groÃ
 Ÿen Leinwandauftritt aus dem Leben.VHS-Film der Woche | USA 2018 - Tickets
 : 09561 / 239051
DTEND:20180808T000000
DTSTART:20180808T201500
LAST-MODIFIED:20180523T205100Z
LOCATION:Coburg\, Kino Utopolis
SUMMARY:Lucky
X-IMAGE:http://www.region-coburg.tv/images/medium/vhs-film-1276db0f.jpg
END:VEVENT
END:VCALENDAR
