BEGIN:VCALENDAR
METHOD:PUBLISH
PRODID:-//4311@www.region-coburg.tv//NONSGML iCalcreator 2.4.3//
VERSION:2.0
BEGIN:VEVENT
UID:4311-20180801201500-20180801000000@www.region-coburg.tv
DTSTAMP:20260421T142109Z
CONTACT:09561 / 239051
CREATED:20180523T204800Z
DESCRIPTION:Als sich der zynische\, unheilbar krebskranke Arthur vor seinem
  Selbstmord noch eine Henkersmahlzeit gönnen möchte\, vereitelt er dabei
  versehentlich den Selbstmordversuch der jungen Claire. Mit dem Ziel\, den
  Wert des Lebens neu zu erfahren\, macht sich die eben gefundene Schicksal
 sgemeinschaft auf in das pulsierende Amsterdamer Nachtleben. Wer sonst als
  der österreichische Kabarettist Josef Hader könnte einen solchen Stoff\
 , in dem Angst vor dem Tod auf Angst vor dem Leben trifft\, zu einer point
 enreichen\, schwarzhumorigen Tragikomödie machen? Als Drehbuchautor liefe
 rt er einzigartige Dialoge und der deutsch-portugiesischen Regisseur Migue
 l Alexander findet eine wunderbare Balance zwischen trockenem Humor und be
 rührender Einsicht in die menschliche Unvollkommenheit. Eine Liebeserklä
 rung an das Leben.VHS-Film der Woche | Deutschland\, Österreich\,Niederla
 nde 2018 - Tickets: 09561 / 239051
DTEND:20180801T000000
DTSTART:20180801T201500
LAST-MODIFIED:20180523T204800Z
LOCATION:Coburg\, Kino Utopolis
SUMMARY:Arthur & Claire
X-IMAGE:http://www.region-coburg.tv/images/medium/vhs-film-1276db0f.jpg
END:VEVENT
END:VCALENDAR
