BEGIN:VCALENDAR
METHOD:PUBLISH
PRODID:-//4310@www.region-coburg.tv//NONSGML iCalcreator 2.4.3//
VERSION:2.0
BEGIN:VEVENT
UID:4310-20180724201500-20180724000000@www.region-coburg.tv
DTSTAMP:20260421T142453Z
CONTACT:09561 / 239051
CREATED:20180523T204600Z
DESCRIPTION:Nach „Im Fluss der Zeit“\, dem großartigen ersten Film üb
 er den schottischen LandArt-Künstler Andy Goldsworthy\, gibt es nun die l
 ange erwartete Fortsetzung. Der preisgekrönte  Dokumentarfilmer Thomas R
 iedelsheimer zeigt in „Leaning into the Wind“ einen etwas ernster und 
 nachdenklicher gewordenen Goldsworthy. Nach wie vor ist hauptsächlich die
  Natur bei ihm sein Material. Allerdings macht er sich in seinen neuesten 
 Inszenierungen und Werken gerne selbst zur Skulptur in der Landschaft\, kl
 ettert beispielsweise durch eine Hecke am Wegesrand und demonstriert\, wie
  man die normale Art des Gehens oder Schauens durchbricht. Die Musik von F
 red Frith rundet den Film ab und macht ihn zu einem sinnlichen\, wunderbar
  entschleunigendem Kinoerlebnis.VHS-Film der Woche | Deutschland 2017 - Ti
 ckets: 09561 / 239051
DTEND:20180724T000000
DTSTART:20180724T201500
LAST-MODIFIED:20180523T204600Z
LOCATION:Coburg\, Kino Utopolis
SUMMARY:Leaning into the Wind
X-IMAGE:http://www.region-coburg.tv/images/medium/vhs-film-1276db0f.jpg
END:VEVENT
END:VCALENDAR
