BEGIN:VCALENDAR
METHOD:PUBLISH
PRODID:-//4309@www.region-coburg.tv//NONSGML iCalcreator 2.4.3//
VERSION:2.0
BEGIN:VEVENT
UID:4309-20180718201500-20180718000000@www.region-coburg.tv
DTSTAMP:20260421T123341Z
CONTACT:09561 / 239051
CREATED:20180523T204300Z
DESCRIPTION:Aus über 100 Stunden bisher unveröffentlichtem Filmmaterial e
 rzählt Regisseur Brett Morgen die Geschichte der britischen Umweltschütz
 erin Jane Goodall\, die mit 26 Jahren in Tansania ihren überwiegend männ
 lichen Tierforscherkollegen zeigt\, dass sie jahrelang falsch gearbeitet h
 aben. Sie geht anders an die Sache ran\, nimmt sich Zeit\, um das Vertraue
 n der Schimpansen zu erlangen – und entdeckt deren Intelligenz und sozia
 le Einstellung. 1964 kommt der niederländische Filmemacher Hugo van Lawic
 k nach Tansania und dokumentiert ihre Arbeit. Die beiden verlieben sich\, 
 heiraten und bekommen ein Kind. Der Film zeigt Lawicks Tieraufnahmen\, exk
 lusive Interviews mit Goodall\, Forschungsmaterial des Jane Goodall Instit
 uts und Familienvideos begleitet von einer orchestralen Filmmusik des Komp
 onisten Philip Glass.VHS-Film der Woche | USA 2018 - Tickets: 09561 / 2390
 51
DTEND:20180718T000000
DTSTART:20180718T201500
LAST-MODIFIED:20180523T204300Z
LOCATION:Coburg\, Kino Utopolis
SUMMARY:Jane
X-IMAGE:http://www.region-coburg.tv/images/medium/vhs-film-1276db0f.jpg
END:VEVENT
END:VCALENDAR
