BEGIN:VCALENDAR
METHOD:PUBLISH
PRODID:-//4308@www.region-coburg.tv//NONSGML iCalcreator 2.4.3//
VERSION:2.0
BEGIN:VEVENT
UID:4308-20180710201500-20180710000000@www.region-coburg.tv
DTSTAMP:20260421T123235Z
CONTACT:09561 / 239051
CREATED:20180523T204100Z
DESCRIPTION:Im London der 50er Jahre ist Reynolds Woodcock ein Star der Mod
 eszene. Gemeinsam mit seiner Schwester Cyril betreibt er die Marke „The 
 House of Woodcock“\, die vom Adel ebenso geschätzt wird wie von Filmsta
 rs und anderen Berühmtheiten. Die symbiotische Beziehung zu seiner Schwes
 ter lässt allerdingskaum Platz für eine andere Person\, erst recht nicht
  für eine andere Frau. Und so flüchtet sich der charmante und gutaussehe
 nde Designer als eingefleischter Junggeselle von einer Affäre in die näc
 hste. Doch als er bei einem Frühstück die Kellnerin Alma kennenlernt wir
 d ihm schnell klar\, dass die junge Frau mit dem offenen und verführerisc
 hen Blick seine Muse werden wird. Dass sie sich als wesentlich eigensinnig
 er erweist\, als er es gewohnt ist\, löst in Reynolds eine besondere Fasz
 ination aus\, stellt ihn aber auch vor die Herausforderung\,einen anderen 
 Menschen mit einer starken Persönlichkeit an seiner Seite zu akzeptieren.
  Sein Leben droht aus den Fugen zu geraten …VHS-Film der Woche | USA 201
 8 - Tickets: 09561 / 239051
DTEND:20180710T000000
DTSTART:20180710T201500
LAST-MODIFIED:20180523T204100Z
LOCATION:Coburg\, Kino Utopolis
SUMMARY:Der seidene Faden
X-IMAGE:http://www.region-coburg.tv/images/medium/vhs-film-1276db0f.jpg
END:VEVENT
END:VCALENDAR
