BEGIN:VCALENDAR
METHOD:PUBLISH
PRODID:-//4307@www.region-coburg.tv//NONSGML iCalcreator 2.4.3//
VERSION:2.0
BEGIN:VEVENT
UID:4307-20180703201500-20180703000000@www.region-coburg.tv
DTSTAMP:20260421T123915Z
CONTACT:09561 / 239051
CREATED:20180523T203700Z
DESCRIPTION:Jeder\, der Sven Regeners Buch „Herr Lehmann“ gelesen oder 
 den gleichnamigen Film gesehen hat\, kennt Karl Schmidt\, den schrägen Be
 rliner Künstler\, der am Ende des ersten Films nach einem Nervenzusammenb
 ruch von der Bildfläche verschwindet. Ihm ist diese Fortsetzung gewidmet.
  Wir befinden uns mittlerweile in den 90er Jahren. Techno ist das große D
 ing und Karls krude Kumpels planen mit ihrem Techno-Plattenlabel Bumm Bumm
  Records eine Rave-Tour durch Deutschland – die „Magical Mystery“-To
 ur. So passt es ihnen ganz gut\, dass ihnen Karl über den Weg läuft\, de
 r nach seinem Entzug den Drogen abgeschworen hat\, denn sie brauchen einen
  Fahrer\, der sie nach langen Parties nüchtern zum nächsten Gig bringt. 
 „Stromberg“-Kreativkopf Arne Feldhusen trifft als  Regisseur wunderba
 r den Ton von Regeners Romanvorlage und die Atmosphäre dieser Zeit.VHS-Fi
 lm der Woche | Deutschland 2017 - Tickets: 09561 / 239051
DTEND:20180703T000000
DTSTART:20180703T201500
LAST-MODIFIED:20180523T203700Z
LOCATION:Coburg\, Kino Utopolis
SUMMARY:Magical Mystery
X-IMAGE:http://www.region-coburg.tv/images/medium/vhs-film-1276db0f.jpg
END:VEVENT
END:VCALENDAR
