BEGIN:VCALENDAR
METHOD:PUBLISH
PRODID:-//4306@www.region-coburg.tv//NONSGML iCalcreator 2.4.3//
VERSION:2.0
BEGIN:VEVENT
UID:4306-20180626201500-20180626000000@www.region-coburg.tv
DTSTAMP:20260421T123613Z
CONTACT:09561 / 239051
CREATED:20180523T203500Z
DESCRIPTION:„Ötzi“ kann wohl als der älteste Prominente weltweit beze
 ichnet werden. Fast jeder hat schon einmal von dem etwa 5.100 Jahre alten 
 Mann aus dem Ötztal gehört\, dessen im Eis konservierte Leiche 1991 von 
 Bergwanderern gefunden wurde. Teile der Kleidung und Ausrüstung\, darunte
 r ein Kupferbeil und ein Feuerstein\, blieben über die Jahrtausende erhal
 ten. Eine Röntgenaufnahme zeigt eine Pfeilspitze im linken Schulterblatt.
  Diese wenigen gesicherten Fakten über Lebensweise und Schicksal des Eism
 annes waren der Anlass für Felix Randaus fiktives Drama. Als der Steinzei
 tmensch Kelab\, Anführer seines Stammes\, eines Tages von der Jagd wieder
 kehrt\, muss er feststellen\, dass die Siedlung überfallen und der ganze 
 Stamm mitsamt seiner Familie ermordet wurde. Noch dazu wurde das Heiligtum
  entwendet. Von Wut und dem Wunsch nach Rache angetrieben macht sich Kelab
  auf die Suche nach den Tätern.VHS-Film der Woche | Deutschland\, Italien
 \, Österreich 2017 - Tickets: 09561 / 239051
DTEND:20180626T000000
DTSTART:20180626T201500
LAST-MODIFIED:20180523T203500Z
LOCATION:Coburg\, Kino Utopolis
SUMMARY:Der Mann aus dem Eis
X-IMAGE:http://www.region-coburg.tv/images/medium/vhs-film-1276db0f.jpg
END:VEVENT
END:VCALENDAR
