BEGIN:VCALENDAR
METHOD:PUBLISH
PRODID:-//4305@www.region-coburg.tv//NONSGML iCalcreator 2.4.3//
VERSION:2.0
BEGIN:VEVENT
UID:4305-20180619201500-20180619000000@www.region-coburg.tv
DTSTAMP:20260421T123726Z
CONTACT:09561 / 239051
CREATED:20180523T203200Z
DESCRIPTION:Ein Film über einen Film. Schauspieler\, die Schauspieler spie
 len – und zwar schlechte. Das gibt es in James Francos  Tragikomödie z
 u sehen\, die sich der Entstehungsgeschichte des 2003 erschienenen Kinostr
 eifens „The Room“ widmet\, der gemeinhin als „schlechtester Film all
 er Zeiten“ bezeichnet wird und gerade deshalb zum Kultphänomen avancier
 te. Im Mittelpunkt steht Tommy Wiseau\, Hauptdarsteller\, Produzent\, Regi
 sseur und Autor von „The Room“. Als ihm und seinem Freund Greg klargem
 acht wird\, dass sie ihren Traum von der großen Hollywood-Karriere beerdi
 gen können\, kommt ihnen eine Idee: Warum nicht einfach einen eigenen Fil
 m drehen? Natürlich hat Wiseau keine Ahnung vom Filmemachen und er mag vi
 elleicht gescheitert sein\, aber er hat sein „Ding durchgezogen“. Ein 
 unterhaltsamer Blick auf einen verschrobenen Typen\, seinenunbändigen Sch
 affensdrang und einen herrlich schrägen Filmdreh!VHS-Film der Woche | USA
  2018 - Tickets: 09561 / 239051
DTEND:20180619T000000
DTSTART:20180619T201500
LAST-MODIFIED:20180523T203200Z
LOCATION:Coburg\, Kino Utopolis
SUMMARY:The Disaster Artist
X-IMAGE:http://www.region-coburg.tv/images/medium/vhs-film-1276db0f.jpg
END:VEVENT
END:VCALENDAR
