BEGIN:VCALENDAR
METHOD:PUBLISH
PRODID:-//4304@www.region-coburg.tv//NONSGML iCalcreator 2.4.3//
VERSION:2.0
BEGIN:VEVENT
UID:4304-20180612201500-20180612000000@www.region-coburg.tv
DTSTAMP:20260421T123711Z
CONTACT:09561 / 239051
CREATED:20180523T123600Z
DESCRIPTION:Der Film basiert auf einer wahren Begebenheit\, die bereits im 
 gleichnamigen Buch von Dietrich Garstka beschrieben wurde\, der 1956 selbs
 t Teil der Abiturklasse war\, die plötzlich im Visier der DDR-Staatsmacht
  stand und deren komplette Zukunft bedroht war. Auslöser war eine Schweig
 eminute\, um der Opfer des Ungarnaufstandes zu gedenken. Die Klasse hat da
 bei unterschätzt\, dass im DDR-System Mut und Zivilcourage als konterrevo
 lutionär eingestuft wurden. Der Volksbildungsminister sieht darin einen p
 olitischen Akt und will mit allen Mitteln den Anstifter ausfindig zu mache
 n. Trotz Verdächtigungen\, Verhören und Drohungen hält die Klasse zusam
 men ... und schweigt. Lars Kraumes Historiendrama ist eine kluge und mitre
 ißende Geschichtsstunde und ein moralischer Film\, der aber nie didaktisc
 h und aufgesetzt wirkt.VHS-Film der Woche | Deutschland 2018 - Tickets: 09
 561 / 239051
DTEND:20180612T000000
DTSTART:20180612T201500
LAST-MODIFIED:20180523T123600Z
LOCATION:Coburg\, Kino Utopolis
SUMMARY:Das schweigende Klassenzimmer
X-IMAGE:http://www.region-coburg.tv/images/medium/vhs-film-1276db0f.jpg
END:VEVENT
END:VCALENDAR
