BEGIN:VCALENDAR
METHOD:PUBLISH
PRODID:-//4303@www.region-coburg.tv//NONSGML iCalcreator 2.4.3//
VERSION:2.0
BEGIN:VEVENT
UID:4303-20180606201500-20180606000000@www.region-coburg.tv
DTSTAMP:20260421T105747Z
CONTACT:09561 / 239051
CREATED:20180523T123300Z
DESCRIPTION:Ein buddhistischer Weg zur Freiheit Originalfassung mit Unterti
 telnEbenso interessant wie spannend zeichnet der Film in vielen Originalau
 fnahmen und Gesprächen das Leben und Schaffen der Hannah Nydahl nach. Gep
 rägt von der Hippiebewegung\, brach die Dänin in den 60er Jahren zu eine
 r Hochzeitsreise nach Nepal auf und traf einen hohen Geistlichen des Buddh
 ismus. Später wurden sie und ihr Mann die ersten westlichen Schüler des 
 16. Karmapa und avancierten daraufhin zu Schlüsselfiguren bei der Verbrei
 tung des tibetanischen Buddhismus in der westlichen Welt. Die Dokumentatio
 n porträtiert zum einen die faszinierenden Persönlichkeit Hannah Nydahls
 \, ihre besondere Ausstrahlung und Offenheit\, er beschreibt aber auch seh
 r informativ politische Hintergründe und die Lehre des „Diamantweg-Budd
 hismus“.VHS-Film der Woche | Großbritannien 2018 - Tickets: 09561 / 239
 051
DTEND:20180606T000000
DTSTART:20180606T201500
LAST-MODIFIED:20180523T123300Z
LOCATION:Coburg\, Kino Utopolis
SUMMARY:Hannah
X-IMAGE:http://www.region-coburg.tv/images/medium/vhs-film-1276db0f.jpg
END:VEVENT
END:VCALENDAR
