BEGIN:VCALENDAR
METHOD:PUBLISH
PRODID:-//4302@www.region-coburg.tv//NONSGML iCalcreator 2.4.3//
VERSION:2.0
BEGIN:VEVENT
UID:4302-20180529201500-20180529000000@www.region-coburg.tv
DTSTAMP:20260421T105732Z
CONTACT:09561 / 239051
CREATED:20180523T123000Z
DESCRIPTION:Der Film des britischen Theaterregisseur William Oldroyd wurde 
 inspiriert von der russischen Novelle „Die Lady Macbeth aus dem Landkrei
 s Mzensk“\, eine von zahlreichen literarischen Neu- und Weiterdichtungen
  von Shakespeares Stoff. Das Drama spielt in England in der Mitte des 19. 
 Jahrhunderts. Frauen sind praktisch rechtlose Wesen\, die nach Gutdünken 
 der Männer verheiratet und ihrer Freiheit beraubt werden. Erzählt wird d
 ie Geschichte von Catherine\, der immer wieder explizit untersagt wird\, n
 ach draußen in die Natur zu gehen\, als würde dies ihre animalischen Tri
 ebe wecken. Als ihr Mann verreist\, bewahrheitet sich diese Befürchtung i
 n gewisser Weise sogar. Als sie dem Hausarrest entkommt und eine Affäre m
 it dem Stallburschen Sebastian beginnt\, löst dies eine Mordserie in Shak
 espeare-Ausmaßen hervor. Am Ende unterscheidet sich Catherine kaum noch v
 on den Männern\, gegen die sie sich einst auflehnte.VHS-Film der Woche | 
 Großbritannien 2017 - Tickets: 09561 / 239051
DTEND:20180529T000000
DTSTART:20180529T201500
LAST-MODIFIED:20180523T123000Z
LOCATION:Coburg\, Kino Utopolis
SUMMARY:Lady Macbeth
X-IMAGE:http://www.region-coburg.tv/images/medium/vhs-film-1276db0f.jpg
END:VEVENT
END:VCALENDAR
