BEGIN:VCALENDAR
METHOD:PUBLISH
PRODID:-//4300@www.region-coburg.tv//NONSGML iCalcreator 2.4.3//
VERSION:2.0
BEGIN:VEVENT
UID:4300-20180623193000-20180623000000@www.region-coburg.tv
DTSTAMP:20260424T112339Z
CONTACT:09564 / 4489
CREATED:20180514T162100Z
DESCRIPTION:Premiere in Heldritt am 2. Juni 2018Der heißgeliebte Kater der
  Mühlenwirtin verschwindet\, angeblich hat ihn der Nachbar erschossen. De
 r anschließende Streit zwischen beiden eskaliert\, ein Missverständnis j
 agt das andere. Alle Bemühungen scheinen für die Katz zu sein … Nicht 
 nur beim Komödienstadel oder dem Ohnsorg-Theater stand das ländliche Lus
 tspiel aus der Feder von August Hinrichs auf dem Programm. Ab Samstag\, de
 n 02. Juni ist „Für die Katz“ mit 15 Vorstellungen auf der Waldbühne
  Heldritt zu sehen. - Tickets: 09564 / 4489
DTEND:20180623T000000
DTSTART:20180623T193000
LAST-MODIFIED:20180514T162100Z
LOCATION:Waldbühne Heldritt
SUMMARY:Für die Katz
X-IMAGE:http://www.region-coburg.tv/images/medium/katz-vh-bc8f6324.jpg
END:VEVENT
END:VCALENDAR
