BEGIN:VCALENDAR
METHOD:PUBLISH
PRODID:-//4299@www.region-coburg.tv//NONSGML iCalcreator 2.4.3//
VERSION:2.0
BEGIN:VEVENT
UID:4299-20180605150000-20180605000000@www.region-coburg.tv
DTSTAMP:20260424T082115Z
CONTACT:09564 / 4489
CREATED:20180514T160600Z
DESCRIPTION:Premiere in Heldritt am 27. Mai 2018Ein Kind\, das ohne Eltern 
 aufwächst\, weil die Mutter gestorben und der Vater\, ein Seeräuberkapit
 än\, verschollen ist. Zusammen mit seinem Affen 'Herrn Nilsson' und dem P
 ferd „Kleiner Onkel“\, lebt das Mädchen allein in der Villa Kunterbun
 t. Das kann nur Pippi Langstrumpf sein\, Astrid Lindgrens berühmte Kinder
 buch-Heldin. Sie und ihre Freunde sind ab Sonntag\, den 27. Mai auf der He
 ldritter Waldbühne zu erleben. Die 12jährige Frida Pötsch aus Beiersdor
 f spielt die Hauptrolle. Geplant sind insgesamt 16 Aufführungen. - Ticket
 s: 09564 / 4489
DTEND:20180605T000000
DTSTART:20180605T150000
LAST-MODIFIED:20180514T160600Z
LOCATION:Waldbühne Heldritt
SUMMARY:Pippi Langstrumpf
X-IMAGE:http://www.region-coburg.tv/images/medium/pippi-vh-45e8e148.jpg
END:VEVENT
END:VCALENDAR
