BEGIN:VCALENDAR
METHOD:PUBLISH
PRODID:-//4297@www.region-coburg.tv//NONSGML iCalcreator 2.4.3//
VERSION:2.0
BEGIN:VEVENT
UID:4297-20180908143000-20180908000000@www.region-coburg.tv
DTSTAMP:20260421T160437Z
CREATED:20180514T155600Z
DESCRIPTION:'Ihr spielt die Musik'2014 vom deutschen Symphonie-Orchester Be
 rlin ins Leben gerufen\, werden seitdem „Symphonic Mobs“ landesweit du
 rchgeführt. Dabei vereinen sich Profis und Laien-Musiker für einen einzi
 gen Auftritt zu einem großen Orchester. Nach Berlin\, Hamburg\, Bremen un
 d Köln ist es am Samstag\, den 23. Juni auch in Coburg soweit: im Hof von
  Schloss Ehrenburg findet unter der musikalischen Leitung vom GMD Roland K
 luttig der erste bayerische „Symphonic Mob“ statt!Jeder\, der ein Inst
 rument spielt oder singt\, darf mitmachen. Unter der Web-Adresse www.symph
 onic-mob.de sind ab sofort die wichtigen Infos zu finden\, die Noten für 
 das entsprechende Instrument können heruntergeladen werden. Mit Auszügen
  aus Edvard Griegs „Peer Gynt“-Suite\, zwei „Slawischen Tänzen“ v
 on Antonin Dvorak und dem berühmten Torero-Lied aus der Oper „Carmen“
  ist das Programm äußerst reizvoll! Spielen Sie mit im größten Spontan
 orchester der Stadt Coburg!Weitere Informationen
DTEND:20180908T000000
DTSTART:20180908T143000
LAST-MODIFIED:20180514T155600Z
LOCATION:Schloss Ehrenburg\, Innenhof
SUMMARY:Symphonic Mob
X-IMAGE:http://www.region-coburg.tv/images/medium/ltc-mob-vh-2fbdbb70.jpg
END:VEVENT
END:VCALENDAR
