BEGIN:VCALENDAR
METHOD:PUBLISH
PRODID:-//4294@www.region-coburg.tv//NONSGML iCalcreator 2.4.3//
VERSION:2.0
BEGIN:VEVENT
UID:4294-20180517190000-20180517000000@www.region-coburg.tv
DTSTAMP:20260421T105448Z
CONTACT:09568 / 81-0
CREATED:20180507T164500Z
DESCRIPTION:Heidi Fischer liest: 'Tod der Schmetterlingsfrau“Spannende Un
 terhaltung bietet der „Tod der Schmetterlingsfrau“. In dem Krimi versu
 cht eine verzweifelte Mutter herauszufinden\, was auf der Urlaubsinsel Mal
 lorca zum Tod ihrer Tochter geführt hat. Das brandneue Buch der Coburger 
 Autorin Heidi Fischer spielt an vielen schönen Orten der Baleareninsel. S
 ie stellt ihren Mallorca-Krimi am Donnerstag\, den 17. Mai in der Stadtbü
 cherei Neustadt vor. - Tickets: 09568 / 81-0
DTEND:20180517T000000
DTSTART:20180517T190000
LAST-MODIFIED:20180507T164500Z
LOCATION:Stadtbücherei Neustadt
SUMMARY:Autoren der Region
X-IMAGE:http://www.region-coburg.tv/images/medium/fischer-vh-16fce966.jpg
END:VEVENT
END:VCALENDAR
