BEGIN:VCALENDAR
METHOD:PUBLISH
PRODID:-//4289@www.region-coburg.tv//NONSGML iCalcreator 2.4.3//
VERSION:2.0
BEGIN:VEVENT
UID:4289-20180514140000-20180514000000@www.region-coburg.tv
DTSTAMP:20260424T050127Z
CONTACT:VVK Buchhandlung Riemann
CREATED:20180507T150400Z
DESCRIPTION:Im Frühjahr letzten Jahres inszenierte das Landestheater „Sc
 hlafen Fische?“. Das traurig-heitere Theaterstück für Kinder ab 9 Jahr
 en nähert sich sensibel einem Tabuthema\, dem Sterben eines geliebten Men
 schen. Auf Initiative des Hospizvereins Coburg wird ein ungewöhnlicher Sp
 ielort\, das Coburger Naturkundemuseum erneut zur Bühne. Die Geschichte v
 on Jens Raschke ist mit der Schauspielerin Anne Rieckhof am 12.\, 13. und 
 14. Mai noch einmal zu sehen.Video - Tickets: VVK Buchhandlung Riemann
DTEND:20180514T000000
DTSTART:20180514T140000
LAST-MODIFIED:20180507T150400Z
LOCATION:Coburg\, Naturkundemuseum
SUMMARY:Schlafen Fische?
X-IMAGE:http://www.region-coburg.tv/images/medium/fische-vh2-09b7e9c4.jpg
END:VEVENT
END:VCALENDAR
