BEGIN:VCALENDAR
METHOD:PUBLISH
PRODID:-//4286@www.region-coburg.tv//NONSGML iCalcreator 2.4.3//
VERSION:2.0
BEGIN:VEVENT
UID:4286-20180505150000-20180505000000@www.region-coburg.tv
DTSTAMP:20260421T105521Z
CONTACT:09568 / 5227
CREATED:20180501T184600Z
DESCRIPTION:Musizierkreis NeustadtDuftender Kaffee und frisch gebackener Ku
 chen – da fehlt für einen genussvollen Nachmittag nur noch die entsprec
 hende Musik! Das Orchester des Musizierkreises gehobener Unterhaltungsmusi
 k Neustadt lädt am 05. Mai zur „Kaffeehausmusik“ in den Gasthof „Gu
 nsenheimer“ in Meilschnitz ein. Dabei stehen gern gehörte Stücke aus d
 er guten alten Zeit auf dem Programm. Unter der Leitung von Norbert Luche 
 erklingen Polkas\, Walzer\, Märsche\, Romanzen und Serenaden\, bereichert
  durch Solostücke für Posaune\, Violine\, Oboe und Cello. Wissenswertes 
 wie auch Amüsantes serviert Moderatorin Christine Luche. - Tickets: 09568
  / 5227
DTEND:20180505T000000
DTSTART:20180505T150000
LAST-MODIFIED:20180501T184600Z
LOCATION:Landgasthof Gunsenheimer
SUMMARY:Kaffeehausmusik
X-IMAGE:http://www.region-coburg.tv/images/medium/kaffeehausmusik-aec0740d.
 jpg
END:VEVENT
END:VCALENDAR
