BEGIN:VCALENDAR
METHOD:PUBLISH
PRODID:-//4283@www.region-coburg.tv//NONSGML iCalcreator 2.4.3//
VERSION:2.0
BEGIN:VEVENT
UID:4283-20180505000000-20180505000000@www.region-coburg.tv
DTSTAMP:20260421T105323Z
CREATED:20180424T145100Z
DESCRIPTION:'Lichtblickeâ€œâ€žLichtblickeâ€œ heiÃŸt das Motto der 15. Regio
 nalen Museumsnacht Coburg-SÃ¼dthÃ¼ringen. Ganz unterschiedliche Museen und
  kulturelle Einrichtungen\, darunter das GerÃ¤temuseum â€žAlte SchÃ¤fereiâ
 €œ in Ahorn\, das Deutsche Spielzeugmuseum Sonneberg\, das Friedensmuseum 
 Meeder oder das Schiefermuseum Ludwigsstadt prÃ¤sentieren ihre sichtbaren 
 und verborgenen SchÃ¤tze. Samstag\, der 05. Mai verspricht besondere Einbl
 icke in Geschichte\, Kunst\, Gewerbe und Naturwissenschaften. Ein Busshutt
 le steht zur VerfÃ¼gung. Das detaillierte Programm ist unter www.regionale
 -museumsnacht.de zu finden.
DTEND;VALUE=DATE:20180506
DTSTART;VALUE=DATE:20180505
LAST-MODIFIED:20180424T145100Z
LOCATION:Diverse Veranstaltungsorte
SUMMARY:Regionale Museumsnacht
X-IMAGE:http://www.region-coburg.tv/images/medium/museumsnacht-vh-aae4b8ac.
 jpg
END:VEVENT
END:VCALENDAR
