BEGIN:VCALENDAR
METHOD:PUBLISH
PRODID:-//4282@www.region-coburg.tv//NONSGML iCalcreator 2.4.3//
VERSION:2.0
BEGIN:VEVENT
UID:4282-20180502150000-20180502000000@www.region-coburg.tv
DTSTAMP:20260421T105915Z
CONTACT: 09561 / 891420
CREATED:20180424T144500Z
DESCRIPTION:PreisverleihungSchon seit Jahren organisiert die Stadtbücherei
  und die Stadt Coburg den Schüler-Wettbewerb 'Jugend schreibt'. Thema in 
 diesem Jahr ist „Glück“. Die Preisverleihung findet am Mittwoch\, den
  02. Mai in der Stadtbücherei Coburg statt. Die jungen Schriftstellerinne
 n und Schriftstellern stellen\, musikalisch umrahmt\, eine kleine Auswahl 
 ihrer Texte vor. - Tickets:  09561 / 891420
DTEND:20180502T000000
DTSTART:20180502T150000
LAST-MODIFIED:20180424T144500Z
LOCATION:Coburg\, Stadtbücherei
SUMMARY:Jugend schreibt
X-IMAGE:http://www.region-coburg.tv/images/medium/lesen-vh-57361ee1.jpg
END:VEVENT
END:VCALENDAR
