BEGIN:VCALENDAR
METHOD:PUBLISH
PRODID:-//4277@www.region-coburg.tv//NONSGML iCalcreator 2.4.3//
VERSION:2.0
BEGIN:VEVENT
UID:4277-20180421000000-20180427000000@www.region-coburg.tv
DTSTAMP:20260421T092323Z
CREATED:20180420T173000Z
DESCRIPTION:Beleibt und renommiert: '15. Coburger Literaturtage'Beliebt und
  renommiert - die 15. Coburger Literaturtage stehen in den StartlÃ¶chern. 
 Los gehtâ€™s am Samstag\, den 21. April mit dem â€žRoman-Marathonâ€œ in de
 r Reithalle.AngekÃ¼ndigt sind zwei Autorinnen aus dem Alpenland\, Ingrid K
 altenegger mit ihrem RomandebÃ¼t 'Das GlÃ¼ck ist ein Vogerl' und Irene Diw
 iak mit ihrem viel beachteten\, bitterbÃ¶sen Roman â€žLiebwiesâ€œ. Simon S
 trauÃŸ\, Sohn des Dramatikers Botho StrauÃŸ\, stellt seinen DebÃ¼troman â€
 žSieben NÃ¤chteâ€œ vor.Am Montag\, den 23. April gibt es auch wieder einen
  Lyrik-Abend. Jan Wagner\, im vergangenen Jahr mit dem Georg-BÃ¼chner-Prei
 s ausgezeichnet\, liest in der Location â€žLeise am Marktâ€œ. Beide Verans
 taltungen werden musikalisch umrahmt.Kunst und Literatur stehen am Diensta
 g auf dem Programm. Florian Illies stellt im Kunstverein sein neues Buch '
 Gerade war der Himmel noch blau - Texte zur Kunst' vor.Am Tag darauf Ã¶ffn
 en Coburger BÃ¼rgerinnen und BÃ¼rger wieder ihre privaten Wohnungen fÃ¼r L
 esungen im kleinen Kreis. â€žLiteratur in den HÃ¤usern unserer Stadtâ€œ ve
 rspricht literarische Entdeckungen mit KÃ¼nstlern und KÃ¼nstlerinnen des L
 andestheaters.An einem neuen Ort\, dem Foyer der Wohnbau Stadt Coburg\, wi
 rd schlieÃŸlich am Freitag\, 27. April bei der Autoren-Gala Stargast Franz
 obel begrÃ¼ÃŸt. Der vielfach ausgezeichnete Ã¶sterreichische Schriftstelle
 r stellt seinen Roman 'Das FloÃŸ der Medusa' vor\, mit dem er auf der Shor
 tlist des Deutschen Buchpreises stand.Weitere Informationen
DTEND;VALUE=DATE:20180428
DTSTART;VALUE=DATE:20180421
LAST-MODIFIED:20180420T173000Z
LOCATION:Diverse Veranstaltungsorte
SUMMARY:Coburger Literaturtage
X-IMAGE:http://www.region-coburg.tv/images/medium/literatur-co-vh-b7f881cc.
 jpg
END:VEVENT
END:VCALENDAR
