BEGIN:VCALENDAR
METHOD:PUBLISH
PRODID:-//4271@www.region-coburg.tv//NONSGML iCalcreator 2.4.3//
VERSION:2.0
BEGIN:VEVENT
UID:4271-20180412190000-20180412000000@www.region-coburg.tv
DTSTAMP:20260421T092402Z
CONTACT: 09561 / 891420
CREATED:20180402T110300Z
DESCRIPTION:Autoren der Region: 'Thomas Kriza'„Die Frage nach dem Sinn de
 s Lebens“ zählt zu den sogenannten »großen Fragen« der Philosophie. 
 Thomas Kriza\, Autor des gleichnamigen Buches\, unterrichtet Philosophie a
 n der Hochschule Coburg. Seine Forschungsschwerpunkte umfassen Existenzphi
 losophie\, philosophische Zeitdiagnosen und Theorien der Moderne. Am Donne
 rstag\, den 12. April möchte er in der Stadtbücherei Coburg die Frage na
 ch dem Sinn des Lebens beantworten. Auch hier ist der Eintritt frei! - Tic
 kets:  09561 / 891420
DTEND:20180412T000000
DTSTART:20180412T190000
LAST-MODIFIED:20180402T110300Z
LOCATION:Coburg\, Stadtbücherei
SUMMARY:Autoren der Region
X-IMAGE:http://www.region-coburg.tv/images/medium/kriza-vh-4a1c0933.jpg
END:VEVENT
END:VCALENDAR
