BEGIN:VCALENDAR
METHOD:PUBLISH
PRODID:-//4270@www.region-coburg.tv//NONSGML iCalcreator 2.4.3//
VERSION:2.0
BEGIN:VEVENT
UID:4270-20180411190000-20180411000000@www.region-coburg.tv
DTSTAMP:20260421T092146Z
CONTACT:09568 / 81-0
CREATED:20180402T110000Z
DESCRIPTION:Autoren der Region: 'Nicole Eick'Nicole Eick gab 2012 ihr Roman
 debüt mit dem beklemmenden Sozialkrimi „Abfall“. Am Mittwoch\, den 11
 . April kommt die die Coburger Autorin und Sozialpädagogin in die Neustad
 ter Stadtbücherei. Im Gepäck hat sie ihren letzten Roman „und raus bis
 t du“\, der in einem fiktiven Coburger Pflegeheim spielt. Die Besucher d
 er Lesung erhalten auch eine Kostprobe aus ihrem neuen Kurzgeschichtenband
  „Buchstabensuppe“. Bei diesem Schmankerl mit Neustadter Lokalkolorit 
 darf dann geschmunzelt werden. Der Eintritt dazu ist frei! - Tickets: 0956
 8 / 81-0
DTEND:20180411T000000
DTSTART:20180411T190000
LAST-MODIFIED:20180402T110000Z
LOCATION:Stadtbücherei Neustadt
SUMMARY:Autoren der Region
X-IMAGE:http://www.region-coburg.tv/images/medium/eick-vh-8cad41aa.jpg
END:VEVENT
END:VCALENDAR
