BEGIN:VCALENDAR
METHOD:PUBLISH
PRODID:-//4269@www.region-coburg.tv//NONSGML iCalcreator 2.4.3//
VERSION:2.0
BEGIN:VEVENT
UID:4269-20180711193000-20180711000000@www.region-coburg.tv
DTSTAMP:20260424T150723Z
CONTACT:09561 / 898989
CREATED:20180328T165300Z
DESCRIPTION:Oper von Kurt Weill\; Texte von Bertolt BrechtDer Mond von Alab
 ama weist den Weg in die nächste Whiskey-Bar. Doch der Sehnsuchtsort alle
 r liegt noch ein wenig weiter am Rande der Wüste. Dort haben gestrandete 
 Goldsucher Mahagonny gegründet – eine Stadt\, in der es um vier Dinge g
 eht: Saufen\, Sex\, Sport und Glücksspiel. Das einzige Gesetz der Stadt: 
 Man darf alles\, wenn man genug Geld hat. Das moderne Sodom und Gomorrha i
 st natürlich die Erfindung des Künstler-Duos Bertolt Brecht und Kurt Wei
 ll. Und ihre Oper „Aufstieg und Fall der Stadt Mahagonny' löste bei der
  Uraufführung 1930 in Leipzig nicht ganz überraschend einen riesigen Ska
 ndal aus.VideoLandestheater Coburg\, Premiere am 22. Juni 2018 - Tickets: 
 09561 / 898989
DTEND:20180711T000000
DTSTART:20180711T193000
LAST-MODIFIED:20180328T165300Z
LOCATION:Landestheater Coburg\, Großes Haus
SUMMARY:Aufstieg und Fall der Stadt Mahagonny
X-IMAGE:http://www.region-coburg.tv/images/medium/mahagonny-clip-1be3c7a3.j
 pg
END:VEVENT
END:VCALENDAR
