BEGIN:VCALENDAR
METHOD:PUBLISH
PRODID:-//4268@www.region-coburg.tv//NONSGML iCalcreator 2.4.3//
VERSION:2.0
BEGIN:VEVENT
UID:4268-20180617200000-20180617000000@www.region-coburg.tv
DTSTAMP:20260424T112531Z
CONTACT:09561 / 898989
CREATED:20180328T164700Z
DESCRIPTION:Choreografische Miniaturen von und mit dem Ballett CoburgEltern
  kennen das. Kleinkinder wiegen den Kopf oder den Oberkörper zur Musik no
 ch bevor sie brabbeln oder gar singen können. Wir alle sind Tänzerinnen 
 und Tänzer\, bevor wir bewusst denken und handeln und in die Musik als Mi
 tbrabbler eintreten. Doch wer könnte sich noch an seinen allerersten Schr
 itt\, das allererste Wiegen erinnern? Eben. Und wenn wir das Tanzen wieder
  verlernt haben\, weil wir uns plötzlich selbst anzweifeln\, schüchtern 
 wurden oder in der Disco nie den tollen Typen mit den langen Haaren angeba
 ggert bekamen\, dann bewundern wir die\, die tanzen können – und allen 
 voran die Tänzerinnen und Tänzer des Balletts Coburg.VideoLandestheater 
 Coburg\, Premiere am 17. Juni 2018 - Tickets: 09561 / 898989
DTEND:20180617T000000
DTSTART:20180617T200000
LAST-MODIFIED:20180328T164700Z
LOCATION:Coburg\, Theater in der Reithalle
SUMMARY:First Steps
X-IMAGE:http://www.region-coburg.tv/images/medium/steps-vh-4a04d537.jpg
END:VEVENT
END:VCALENDAR
