BEGIN:VCALENDAR
METHOD:PUBLISH
PRODID:-//4267@www.region-coburg.tv//NONSGML iCalcreator 2.4.3//
VERSION:2.0
BEGIN:VEVENT
UID:4267-20180602193000-20180602000000@www.region-coburg.tv
DTSTAMP:20260424T081603Z
CONTACT:09561 / 898989
CREATED:20180328T164100Z
DESCRIPTION:Tragödie von William Shakespeare Allein zehn Mal wurde Shakes
 peares Drama „Macbeth' ins Deutsche übersetzt. Das lässt einen stutzig
  werden. Warum interessiert gerade dieses Stück so sehr\, dass alle seine
  Facetten gründlich durch- und ausgeleuchtet werden? Banale Antwort: Es g
 eht um Macht und Männlichkeit\, um die Natur und das Schicksal. Fügt man
  diese Begriffe zusammen\, kommen Gedanken dabei heraus\, die in mancher p
 olitisch verführerischen Rede der vergangenen Jahrhunderte in unseren Bre
 itengraden durchaus eine Rolle spielten.VideoLandestheater Coburg\, Wiede
 raufnahme - Tickets: 09561 / 898989
DTEND:20180602T000000
DTSTART:20180602T193000
LAST-MODIFIED:20180328T164100Z
LOCATION:Landestheater Coburg\, Großes Haus
SUMMARY:Macbeth
X-IMAGE:http://www.region-coburg.tv/images/medium/macbeth-vh-8a61fd72.jpg
END:VEVENT
END:VCALENDAR
